BEGIN:VCALENDAR
VERSION:2.0
PRODID:-//artifica.one//Nibelle//FR
CALSCALE:GREGORIAN
METHOD:PUBLISH
BEGIN:VEVENT
SUMMARY:Animation bibliothèque - Atelier papier- collage-
  création
UID:3494
SEQUENCE:0
STATUS:CONFIRMED
TRANSP:TRANSPARENT
DTSTART:20260401T120000Z
DTEND:20260401T140000Z
DTSTAMP:20251120T104707Z
CATEGORIES:Animation
LOCATION:Bibliothèque
 1, square Georges Cottinat
 45340 Nibelle 
GEO:48.022789;2.32709
DESCRIPTION:Sur inscription
URL:https://www.nibelle.fr/agenda/animation-bibliotheque-atelier-papier-collage-creation-3494
END:VEVENT
END:VCALENDAR
