BEGIN:VCALENDAR
VERSION:2.0
PRODID:-//artifica.one//Nibelle//FR
CALSCALE:GREGORIAN
METHOD:PUBLISH
BEGIN:VEVENT
SUMMARY:Animation bibliothèque - Atelier &quot;Le chant des be
 tteraves&quot;
UID:3491
SEQUENCE:0
STATUS:CONFIRMED
TRANSP:TRANSPARENT
DTSTART:20260314T130000Z
DTEND:20260314T150000Z
DTSTAMP:20251120T104707Z
CATEGORIES:Animation
LOCATION:Bibliothèque
 1, square Georges Cottinat
 45340 Nibelle 
GEO:48.022789;2.32709
DESCRIPTION:Sur inscription
URL:https://www.nibelle.fr/agenda/animation-bibliotheque-atelier-le-chant-des-betteraves-3491
END:VEVENT
END:VCALENDAR
